Workbook
Name Azuay: 'Provincias y cantones'!$R$2:$R$16
Name Bolívar: 'Provincias y cantones'!$R$17:$R$23
Name Cañar: 'Provincias y cantones'!$R$24:$R$30
Name Carchi: 'Provincias y cantones'!$R$31:$R$36
Name Chimborazo: 'Provincias y cantones'!$R$44:$R$53
Name Cotopaxi: 'Provincias y cantones'!$R$37:$R$43
Name ElOro: 'Provincias y cantones'!$R$54:$R$67
Name Esmeraldas: 'Provincias y cantones'!$R$68:$R$74
Name ESPECIE: Hoja1!$B$1:$D$143
Name Galápagos: 'Provincias y cantones'!$R$206:$R$208
Name Guayas: 'Provincias y cantones'!$R$75:$R$99
Name Imbabura: 'Provincias y cantones'!$R$100:$R$105
Name Loja: 'Provincias y cantones'!$R$106:$R$121
Name LosRíos: 'Provincias y cantones'!$R$122:$R$136
Name Manabí: 'Provincias y cantones'!$R$137:$R$158
Name MoronaSantiago: 'Provincias y cantones'!$R$159:$R$170
Name Napo: 'Provincias y cantones'!$R$171:$R$175
Name Orellana: 'Provincias y cantones'!$R$216:$R$219
Name Pastaza: 'Provincias y cantones'!$R$176:$R$179
Name Pichincha: 'Provincias y cantones'!$R$180:$R$187
Name SantaElena: 'Provincias y cantones'!$R$222:$R$224
Name STODGO: 'Provincias y cantones'!$R$220:$R$221
Name Sucumbíos: 'Provincias y cantones'!$R$209:$R$215
Name Tungurahua: 'Provincias y cantones'!$R$188:$R$196
Name ZamoraChinchipe: 'Provincias y cantones'!$R$197:$R$205

Sheet Hoja3

Sheet INGRESO INVENTARIO LTE1
B1: 1. DATOS DE UBICACIÓN DEL PREDIO | E1: =VLOOKUP(C2,'Provincias y cantones'!B3:D26,3,FALSE) -> #N/A
B2: Provincia: | E2: Cantón:
B3: Parroquia: | E3: Zonal | F3: =IFERROR(VLOOKUP($C$2,Hoja1!F2:G29,2,0),"")
B4: Sitio: | E4: Nombre del predio:
B5: 2. DATOS DEL BENEFICIARIO Y EJECUTOR
B6: Nombre del beneficiario: | F6: Cédula o RUC
B7: Nombre del ejecutor: | F7: Cédula o RUC
B8: Profesional Forestal: | F8: Nro. Registro Forestal
B9: 3. DATOS DEL INVENTARIO | F9: =IF(ISBLANK(C12)," ",VLOOKUP(C12,ESPECIE,3,FALSE)) | G9: =IF(ISBLANK(C13)," ",VLOOKUP(C13,ESPECIE,3,FALSE))
B10: Superf. parcela (m²) | D10: Superf. plantada (ha) | F10: Aprovechamiento
B11: Cobertura vegetal | F11: Edad (años)
B12: =IF(ISTEXT(C12),"Especie1"," ") | E12: =IF(ISBLANK(C12)," ",VLOOKUP(C12,ESPECIE,2,FALSE)) | F12: ="Factor forma "&IF(ISBLANK(C12)," ",VLOOKUP(C12,ESPECIE,3,FALSE)) -> Factor forma | G12: =IF(G10="Raleo","Intensidad de raleo","")
B13: =IF(ISTEXT(C13),"Especie2"," ") | E13: =IF(ISBLANK(C13)," ",VLOOKUP(C13,ESPECIE,2,FALSE)) | F13: ="Factor forma "&IF(ISBLANK(C13)," ",VLOOKUP(C13,ESPECIE,3,FALSE)) -> Factor forma
B14: 4. COORDENADAS DE LAS PARCELAS (UTM - WGS 84 ZONA 17 SUR)
B15: Nro. Parcela | C15: Este | D15: Norte | E15: Nro. Parcela | F15: Este | G15: Norte
B16: =IF(C16>0,1,0) -> 0
B17: =IF(C17>0,IF(B16>0,B16+1,0),0) -> 0 | E17: =IF(F17>0,IF(E16>0,E16+1,0),0) -> 0
B18: =IF(C18>0,IF(B17>0,B17+1,0),0) -> 0 | E18: =IF(F18>0,IF(E17>0,E17+1,0),0) -> 0
B19: =IF(C19>0,IF(B18>0,B18+1,0),0) -> 0 | E19: =IF(F19>0,IF(E18>0,E18+1,0),0) -> 0
B20: =IF(C20>0,IF(B19>0,B19+1,0),0) -> 0 | E20: =IF(F20>0,IF(E19>0,E19+1,0),0) -> 0
B21: =IF(C21>0,IF(B20>0,B20+1,0),0) -> 0 | E21: =IF(F21>0,IF(E20>0,E20+1,0),0) -> 0
B22: =IF(C22>0,IF(B21>0,B21+1,0),0) -> 0 | E22: =IF(F22>0,IF(E21>0,E21+1,0),0) -> 0
B23: =IF(C23>0,IF(B22>0,B22+1,0),0) -> 0 | E23: =IF(F23>0,IF(E22>0,E22+1,0),0) -> 0
B24: =IF(C24>0,IF(B23>0,B23+1,0),0) -> 0 | E24: =IF(F24>0,IF(E23>0,E23+1,0),0) -> 0
B25: =IF(C25>0,IF(B24>0,B24+1,0),0) -> 0 | E25: =IF(F25>0,IF(E24>0,E24+1,0),0) -> 0
B26: =IF(C26>0,IF(B25>0,B25+1,0),0) -> 0 | E26: =IF(F26>0,IF(E25>0,E25+1,0),0) -> 0
B27: =IF(C27>0,IF(B26>0,B26+1,0),0) -> 0 | E27: =IF(F27>0,IF(E26>0,E26+1,0),0) -> 0
B28: =IF(C28>0,IF(B27>0,B27+1,0),0) -> 0 | E28: =IF(F28>0,IF(E27>0,E27+1,0),0) -> 0
... B30: =IF(C30>0,IF(B29>0,B29+1,0),0) -> 0 | E30: =IF(F30>0,IF(E29>0,E29+1,0),0) -> 0
B32: 5. REGISTRO DE DATOS DE LAS PARCELAS
B33: Nro. Especie | C33: Nro. Parcela | D33: Nro. Arbol | E33: CAP (cm) | F33: Alt. comercial (m) | G33: Volumen (m3)
G34: =IFERROR(IF(ISBLANK(C34)," ",IF(ISBLANK(D34),"NUM ARBOL",IF(ISBLANK(E34),"DAP",IF(ISBLANK(F34),"ALTURA",IF($E$33="DAP (cm)",PI()*((E34/100)^2)/4*F34*$F$9,IF($E$33="CAP (cm)",PI()*((E34/PI()/100)^2)/4*F34*$F$9))))))," ")
G35: =IFERROR(IF(ISBLANK(C35)," ",IF(ISBLANK(D35),"NUM ARBOL",IF(ISBLANK(E35),"DAP",IF(ISBLANK(F35),"ALTURA",IF($E$33="DAP (cm)",PI()*((E35/100)^2)/4*F35*$F$9,IF($E$33="CAP (cm)",PI()*((E35/PI()/100)^2)/4*F35*$F$9))))))," ")
G36: =IFERROR(IF(ISBLANK(C36)," ",IF(ISBLANK(D36),"NUM ARBOL",IF(ISBLANK(E36),"DAP",IF(ISBLANK(F36),"ALTURA",IF($E$33="DAP (cm)",PI()*((E36/100)^2)/4*F36*$F$9,IF($E$33="CAP (cm)",PI()*((E36/PI()/100)^2)/4*F36*$F$9))))))," ")
G37: =IFERROR(IF(ISBLANK(C37)," ",IF(ISBLANK(D37),"NUM ARBOL",IF(ISBLANK(E37),"DAP",IF(ISBLANK(F37),"ALTURA",IF($E$33="DAP (cm)",PI()*((E37/100)^2)/4*F37*$F$9,IF($E$33="CAP (cm)",PI()*((E37/PI()/100)^2)/4*F37*$F$9))))))," ")
G38: =IFERROR(IF(ISBLANK(C38)," ",IF(ISBLANK(D38),"NUM ARBOL",IF(ISBLANK(E38),"DAP",IF(ISBLANK(F38),"ALTURA",IF($E$33="DAP (cm)",PI()*((E38/100)^2)/4*F38*$F$9,IF($E$33="CAP (cm)",PI()*((E38/PI()/100)^2)/4*F38*$F$9))))))," ")
G39: =IFERROR(IF(ISBLANK(C39)," ",IF(ISBLANK(D39),"NUM ARBOL",IF(ISBLANK(E39),"DAP",IF(ISBLANK(F39),"ALTURA",IF($E$33="DAP (cm)",PI()*((E39/100)^2)/4*F39*$F$9,IF($E$33="CAP (cm)",PI()*((E39/PI()/100)^2)/4*F39*$F$9))))))," ")
G40: =IFERROR(IF(ISBLANK(C40)," ",IF(ISBLANK(D40),"NUM ARBOL",IF(ISBLANK(E40),"DAP",IF(ISBLANK(F40),"ALTURA",IF($E$33="DAP (cm)",PI()*((E40/100)^2)/4*F40*$F$9,IF($E$33="CAP (cm)",PI()*((E40/PI()/100)^2)/4*F40*$F$9))))))," ")
G41: =IFERROR(IF(ISBLANK(C41)," ",IF(ISBLANK(D41),"NUM ARBOL",IF(ISBLANK(E41),"DAP",IF(ISBLANK(F41),"ALTURA",IF($E$33="DAP (cm)",PI()*((E41/100)^2)/4*F41*$F$9,IF($E$33="CAP (cm)",PI()*((E41/PI()/100)^2)/4*F41*$F$9))))))," ")
G42: =IFERROR(IF(ISBLANK(C42)," ",IF(ISBLANK(D42),"NUM ARBOL",IF(ISBLANK(E42),"DAP",IF(ISBLANK(F42),"ALTURA",IF($E$33="DAP (cm)",PI()*((E42/100)^2)/4*F42*$F$9,IF($E$33="CAP (cm)",PI()*((E42/PI()/100)^2)/4*F42*$F$9))))))," ")
...

Sheet LTE1 RESUMEN (Imprimir)
B1: 1. DATOS DE UBICACIÓN DEL PREDIO
B2: Provincia: | C2: ='INGRESO INVENTARIO LTE1'!C2 -> 0 | E2: Cantón: | F2: ='INGRESO INVENTARIO LTE1'!F2 -> 0
B3: Parroquia: | C3: ='INGRESO INVENTARIO LTE1'!C3 -> 0 | E3: Zonal | F3: ='INGRESO INVENTARIO LTE1'!F3
B4: Sitio: | C4: ='INGRESO INVENTARIO LTE1'!C4 -> 0 | E4: Nombre del predio: | F4: ='INGRESO INVENTARIO LTE1'!F4 -> 0
B5: 2. DATOS DEL BENEFICIARIO Y EJECUTOR
B6: Nombre del beneficiario: | D6: ='INGRESO INVENTARIO LTE1'!D6:E6 -> 0 | F6: Cédula o RUC | G6: ='INGRESO INVENTARIO LTE1'!G6 -> 0
B7: Nombre del ejecutor: | D7: ='INGRESO INVENTARIO LTE1'!D7:E7 -> 0 | F7: Cédula o RUC | G7: ='INGRESO INVENTARIO LTE1'!G7 -> 0
B8: Profesional Forestal: | D8: ='INGRESO INVENTARIO LTE1'!D8:E8 -> 0 | F8: Registro Forestal | G8: ='INGRESO INVENTARIO LTE1'!G8 -> 0
B9: 3. DATOS DEL INVENTARIO
B10: Superf. parcela (m²) | C10: ='INGRESO INVENTARIO LTE1'!C10 -> 0 | D10: Superf. plantación (ha) | E10: ='INGRESO INVENTARIO LTE1'!E10 -> 0 | F10: Aprovechamiento | G10: ='INGRESO INVENTARIO LTE1'!G10 -> 0
B11: Tipo de cobertura vegetal | D11: ='INGRESO INVENTARIO LTE1'!D11:E11 -> 0 | F11: Edad | G11: ='INGRESO INVENTARIO LTE1'!G11 -> 0
B12: ='INGRESO INVENTARIO LTE1'!B12 | C12: ='INGRESO INVENTARIO LTE1'!C12:D12 -> 0 | E12: ='INGRESO INVENTARIO LTE1'!E12 | F12: ='INGRESO INVENTARIO LTE1'!F12 -> Factor forma | G12: ='INGRESO INVENTARIO LTE1'!G12
B13: ='INGRESO INVENTARIO LTE1'!B13 | C13: ='INGRESO INVENTARIO LTE1'!C13 -> 0 | E13: ='INGRESO INVENTARIO LTE1'!E13 | F13: ='INGRESO INVENTARIO LTE1'!F13 -> Factor forma | G13: ='INGRESO INVENTARIO LTE1'!G13 -> 0
B14: 4. COORDENADAS DE LAS PARCELAS (UTM - WGS 84 ZONA 17 SUR)
B15: Nro. Parcela | C15: Este | D15: Norte | E15: Nro. Parcela | F15: Este | G15: Norte
B16: ='INGRESO INVENTARIO LTE1'!B16 -> 0 | C16: ='INGRESO INVENTARIO LTE1'!C16 -> 0 | D16: ='INGRESO INVENTARIO LTE1'!D16 -> 0 | E16: ='INGRESO INVENTARIO LTE1'!E16 -> 0 | F16: ='INGRESO INVENTARIO LTE1'!F16 -> 0 | G16: ='INGRESO INVENTARIO LTE1'!G16 -> 0
B17: ='INGRESO INVENTARIO LTE1'!B17 -> 0 | C17: ='INGRESO INVENTARIO LTE1'!C17 -> 0 | D17: ='INGRESO INVENTARIO LTE1'!D17 -> 0 | E17: ='INGRESO INVENTARIO LTE1'!E17 -> 0 | F17: ='INGRESO INVENTARIO LTE1'!F17 -> 0 | G17: ='INGRESO INVENTARIO LTE1'!G17 -> 0
B18: ='INGRESO INVENTARIO LTE1'!B18 -> 0 | C18: ='INGRESO INVENTARIO LTE1'!C18 -> 0 | D18: ='INGRESO INVENTARIO LTE1'!D18 -> 0 | E18: ='INGRESO INVENTARIO LTE1'!E18 -> 0 | F18: ='INGRESO INVENTARIO LTE1'!F18 -> 0 | G18: ='INGRESO INVENTARIO LTE1'!G18 -> 0
B19: ='INGRESO INVENTARIO LTE1'!B19 -> 0 | C19: ='INGRESO INVENTARIO LTE1'!C19 -> 0 | D19: ='INGRESO INVENTARIO LTE1'!D19 -> 0 | E19: ='INGRESO INVENTARIO LTE1'!E19 -> 0 | F19: ='INGRESO INVENTARIO LTE1'!F19 -> 0 | G19: ='INGRESO INVENTARIO LTE1'!G19 -> 0
B20: ='INGRESO INVENTARIO LTE1'!B20 -> 0 | C20: ='INGRESO INVENTARIO LTE1'!C20 -> 0 | D20: ='INGRESO INVENTARIO LTE1'!D20 -> 0 | E20: ='INGRESO INVENTARIO LTE1'!E20 -> 0 | F20: ='INGRESO INVENTARIO LTE1'!F20 -> 0 | G20: ='INGRESO INVENTARIO LTE1'!G20 -> 0
B21: ='INGRESO INVENTARIO LTE1'!B21 -> 0 | C21: ='INGRESO INVENTARIO LTE1'!C21 -> 0 | D21: ='INGRESO INVENTARIO LTE1'!D21 -> 0 | E21: ='INGRESO INVENTARIO LTE1'!E21 -> 0 | F21: ='INGRESO INVENTARIO LTE1'!F21 -> 0 | G21: ='INGRESO INVENTARIO LTE1'!G21 -> 0
B22: ='INGRESO INVENTARIO LTE1'!B22 -> 0 | C22: ='INGRESO INVENTARIO LTE1'!C22 -> 0 | D22: ='INGRESO INVENTARIO LTE1'!D22 -> 0 | E22: ='INGRESO INVENTARIO LTE1'!E22 -> 0 | F22: ='INGRESO INVENTARIO LTE1'!F22 -> 0 | G22: ='INGRESO INVENTARIO LTE1'!G22 -> 0
B23: ='INGRESO INVENTARIO LTE1'!B23 -> 0 | C23: ='INGRESO INVENTARIO LTE1'!C23 -> 0 | D23: ='INGRESO INVENTARIO LTE1'!D23 -> 0 | E23: ='INGRESO INVENTARIO LTE1'!E23 -> 0 | F23: ='INGRESO INVENTARIO LTE1'!F23 -> 0 | G23: ='INGRESO INVENTARIO LTE1'!G23 -> 0
B24: ='INGRESO INVENTARIO LTE1'!B24 -> 0 | C24: ='INGRESO INVENTARIO LTE1'!C24 -> 0 | D24: ='INGRESO INVENTARIO LTE1'!D24 -> 0 | E24: ='INGRESO INVENTARIO LTE1'!E24 -> 0 | F24: ='INGRESO INVENTARIO LTE1'!F24 -> 0 | G24: ='INGRESO INVENTARIO LTE1'!G24 -> 0
B25: ='INGRESO INVENTARIO LTE1'!B25 -> 0 | C25: ='INGRESO INVENTARIO LTE1'!C25 -> 0 | D25: ='INGRESO INVENTARIO LTE1'!D25 -> 0 | E25: ='INGRESO INVENTARIO LTE1'!E25 -> 0 | F25: ='INGRESO INVENTARIO LTE1'!F25 -> 0 | G25: ='INGRESO INVENTARIO LTE1'!G25 -> 0
B26: ='INGRESO INVENTARIO LTE1'!B26 -> 0 | C26: ='INGRESO INVENTARIO LTE1'!C26 -> 0 | D26: ='INGRESO INVENTARIO LTE1'!D26 -> 0 | E26: ='INGRESO INVENTARIO LTE1'!E26 -> 0 | F26: ='INGRESO INVENTARIO LTE1'!F26 -> 0 | G26: ='INGRESO INVENTARIO LTE1'!G26 -> 0
B27: ='INGRESO INVENTARIO LTE1'!B27 -> 0 | C27: ='INGRESO INVENTARIO LTE1'!C27 -> 0 | D27: ='INGRESO INVENTARIO LTE1'!D27 -> 0 | E27: ='INGRESO INVENTARIO LTE1'!E27 -> 0 | F27: ='INGRESO INVENTARIO LTE1'!F27 -> 0 | G27: ='INGRESO INVENTARIO LTE1'!G27 -> 0
... B30: ='INGRESO INVENTARIO LTE1'!B30 -> 0 | C30: ='INGRESO INVENTARIO LTE1'!C30 -> 0 | D30: ='INGRESO INVENTARIO LTE1'!D30 -> 0 | E30: ='INGRESO INVENTARIO LTE1'!E30 -> 0 | F30: ='INGRESO INVENTARIO LTE1'!F30 -> 0 | G30: ='INGRESO INVENTARIO LTE1'!G30 -> 0
B32: Estadísticas | C32: Volumen | D32: Nro. Árboles | F32: Estadísticas | G32: Volumen | H32: Nro. Árboles
B33: Min | C33: =IF(ISNUMBER(D51),MIN(D51:D78),"") | D33: =MIN(B51:B78) -> 0 | F33: Min | G33: =IF(ISNUMBER(H51),MIN(H51:H78)," ") | H33: =MIN(F51:F78) -> 0
B34: Max | C34: =IF(ISNUMBER(D51),MAX(D51:D78)," ") | D34: =IF(ISNUMBER(B51),MAX(B51:B78)," ") | F34: Max | G34: =IF(ISNUMBER(H51),MAX(H51:H78)," ") | H34: =IF(ISNUMBER(F51),MAX(F51:F78)," ")
B35: Promedio | C35: =IF(ISNUMBER(D51),AVERAGE(D51:D78)," ") | D35: =IF(ISNUMBER(B51),AVERAGE(B51:B78)," ") | F35: Promedio | G35: =IF(ISNUMBER(H51),AVERAGE(H51:H78)," ") | H35: =IF(ISNUMBER(F51),AVERAGE(F51:F78)," ")
B36: Varianza | C36: =IFERROR(IF(ISNUMBER(D51),VAR(D51:D78)," ")," ") | D36: =IFERROR(IF(ISNUMBER(B51),VAR(B51:B78)," ")," ") | F36: Varianza | G36: =IFERROR(IF(ISNUMBER(H51),VAR(H51:H78)," ")," ") | H36: =IFERROR(IF(ISNUMBER(F51),VAR(F51:F78)," ")," ")
B37: DevStd | C37: =IFERROR(IF(ISNUMBER(D51),STDEV(D51:D78)," ")," ") | D37: =IFERROR(IF(ISNUMBER(B51),STDEV(B51:B78)," ")," ") | F37: DevStd | G37: =IFERROR(IF(ISNUMBER(H51),STDEV(H51:H78)," ")," ") | H37: =IFERROR(IF(ISNUMBER(F51),STDEV(F51:F78)," ")," ")
B38: CV% | C38: =IFERROR(IF(ISNUMBER(D51),TRUNC((C37/C35)*100,2)," ")," ") | D38: =IFERROR(IF(ISNUMBER(B51),TRUNC((D37/D35)*100,2)," ")," ") | F38: CV% | G38: =IFERROR(IF(ISNUMBER(H51),TRUNC((G37/G35)*100,2)," ")," ") | H38: =IFERROR(IF(ISNUMBER(F51),TRUNC((H37/H35)*100,2)," ")," ")
B39: Error Std | C39: =IFERROR(IF(ISNUMBER(D51),C37/COUNT(A51:A78)," ")," ") | D39: =IFERROR(IF(ISNUMBER(B51),D37/COUNT(A51:A78)," ")," ") | F39: Error Std | G39: =IFERROR(IF(ISNUMBER(H51),G37/COUNT(A51:A78)," ")," ") | H39: =IFERROR(IF(ISNUMBER(F51),H37/COUNT(A51:A78)," ")," ")
B40: Error M % | C40: =IFERROR(IF(ISNUMBER(C39),TRUNC((C39*D41/C35)*100,2)," "),0) | D40: =IFERROR(IF(ISNUMBER(D39),TRUNC((D39*D41/D35)*100,2)," ")," ") | F40: Error M % | G40: =IFERROR(IF(ISNUMBER(G39),TRUNC((G39*H41/G35)*100,2)," "),0) | H40: =IFERROR(IF(ISNUMBER(H39),TRUNC((H39*H41/H35)*100,2)," ")," ")
B41: T0,05 | D41: =IFERROR(IF(ISNUMBER(D51),-_xlfn.T.INV(0.05,COUNT(A51:A78)-1)," ")," ") | F41: T0,05 | H41: =IFERROR(IF(ISNUMBER(H51),-_xlfn.T.INV(0.05,COUNT(A51:A78)-1)," ")," ")
B42: Sumatoria Vol. de parcel. (m³) | D42: =IF(ISNUMBER(D51),SUM(D51:D78)," ") | F42: Sumatoria Vol. de parcel. (m³) | H42: =IF(ISNUMBER(H51),SUM(H51:H78)," ")
B43: SOLICITUD | C43: Volumen | D43: Árboles | F43: SOLICITUD | G43: Volumen | H43: Árboles
...

Sheet INGRESO INVENTARIO LTE2
B1: 1. DATOS DE UBICACIÓN DEL PREDIO | E1: =VLOOKUP(C2,'Provincias y cantones'!B3:D26,3,FALSE) -> #N/A
B2: Provincia: | E2: Cantón:
B3: Parroquia: | E3: Zonal | F3: =IFERROR(VLOOKUP($C$2,Hoja1!F2:G29,2,0),"")
B4: Sitio: | E4: Nombre del predio:
B5: 2. DATOS DEL BENEFICIARIO Y EJECUTOR
B6: Nombre del beneficiario: | F6: Cédula o RUC
B7: Nombre del ejecutor: | F7: Cédula o RUC
B8: Profesional Forestal: | F8: Nro. Registro Forestal
B9: 3. DATOS DEL INVENTARIO | F9: =IF(ISBLANK(C12)," ",VLOOKUP(C12,ESPECIE,3,FALSE)) | G9: =IF(ISBLANK(C13)," ",VLOOKUP(C13,ESPECIE,3,FALSE))
B10: Superf. parcela (m²) | D10: Superf. plantada (ha) | F10: Aprovechamiento
B11: Cobertura vegetal | F11: Edad (años)
B12: =IF(ISTEXT(C12),"Especie1"," ") | E12: =IF(ISBLANK(C12)," ",VLOOKUP(C12,ESPECIE,2,FALSE)) | F12: ="Factor forma "&IF(ISBLANK(C12)," ",VLOOKUP(C12,ESPECIE,3,FALSE)) -> Factor forma | G12: =IF(G10="Raleo","Intensidad de raleo","")
B13: =IF(ISTEXT(C13),"Especie2"," ") | E13: =IF(ISBLANK(C13)," ",VLOOKUP(C13,ESPECIE,2,FALSE)) | F13: ="Factor forma "&IF(ISBLANK(C13)," ",VLOOKUP(C13,ESPECIE,3,FALSE)) -> Factor forma
B14: 4. COORDENADAS DE LAS PARCELAS (UTM - WGS 84 ZONA 17 SUR)
B15: Nro. Parcela | C15: Este | D15: Norte | E15: Nro. Parcela | F15: Este | G15: Norte
B16: =IF(C16>0,1,0) -> 0 | E16: =IF(F16>0,IF(B30>0,B30+1,0),0) -> 0
B17: =IF(C17>0,IF(B16>0,B16+1,0),0) -> 0 | E17: =IF(F17>0,IF(E16>0,E16+1,0),0) -> 0
B18: =IF(C18>0,IF(B17>0,B17+1,0),0) -> 0 | E18: =IF(F18>0,IF(E17>0,E17+1,0),0) -> 0
B19: =IF(C19>0,IF(B18>0,B18+1,0),0) -> 0 | E19: =IF(F19>0,IF(E18>0,E18+1,0),0) -> 0
B20: =IF(C20>0,IF(B19>0,B19+1,0),0) -> 0 | E20: =IF(F20>0,IF(E19>0,E19+1,0),0) -> 0
B21: =IF(C21>0,IF(B20>0,B20+1,0),0) -> 0 | E21: =IF(F21>0,IF(E20>0,E20+1,0),0) -> 0
B22: =IF(C22>0,IF(B21>0,B21+1,0),0) -> 0 | E22: =IF(F22>0,IF(E21>0,E21+1,0),0) -> 0
B23: =IF(C23>0,IF(B22>0,B22+1,0),0) -> 0 | E23: =IF(F23>0,IF(E22>0,E22+1,0),0) -> 0
B24: =IF(C24>0,IF(B23>0,B23+1,0),0) -> 0 | E24: =IF(F24>0,IF(E23>0,E23+1,0),0) -> 0
B25: =IF(C25>0,IF(B24>0,B24+1,0),0) -> 0 | E25: =IF(F25>0,IF(E24>0,E24+1,0),0) -> 0
B26: =IF(C26>0,IF(B25>0,B25+1,0),0) -> 0 | E26: =IF(F26>0,IF(E25>0,E25+1,0),0) -> 0
B27: =IF(C27>0,IF(B26>0,B26+1,0),0) -> 0 | E27: =IF(F27>0,IF(E26>0,E26+1,0),0) -> 0
B28: =IF(C28>0,IF(B27>0,B27+1,0),0) -> 0 | E28: =IF(F28>0,IF(E27>0,E27+1,0),0) -> 0
... B30: =IF(C30>0,IF(B29>0,B29+1,0),0) -> 0 | E30: =IF(F30>0,IF(E29>0,E29+1,0),0) -> 0
B32: 5. REGISTRO DE DATOS DE LAS PARCELAS
B33: Nro. Especie | C33: Nro. Parcela | D33: Nro. Arbol | E33: CAP (cm) | F33: Alt. comercial (m) | G33: Volumen (m3)
G34: =IFERROR(IF(ISBLANK(C34)," ",IF(ISBLANK(D34),"NUM ARBOL",IF(ISBLANK(E34),"DAP",IF(ISBLANK(F34),"ALTURA",IF($E$33="DAP (cm)",PI()*((E34/100)^2)/4*F34*$F$9,IF($E$33="CAP (cm)",PI()*((E34/PI()/100)^2)/4*F34*$F$9))))))," ")
G35: =IFERROR(IF(ISBLANK(C35)," ",IF(ISBLANK(D35),"NUM ARBOL",IF(ISBLANK(E35),"DAP",IF(ISBLANK(F35),"ALTURA",IF($E$33="DAP (cm)",PI()*((E35/100)^2)/4*F35*$F$9,IF($E$33="CAP (cm)",PI()*((E35/PI()/100)^2)/4*F35*$F$9))))))," ")
G36: =IFERROR(IF(ISBLANK(C36)," ",IF(ISBLANK(D36),"NUM ARBOL",IF(ISBLANK(E36),"DAP",IF(ISBLANK(F36),"ALTURA",IF($E$33="DAP (cm)",PI()*((E36/100)^2)/4*F36*$F$9,IF($E$33="CAP (cm)",PI()*((E36/PI()/100)^2)/4*F36*$F$9))))))," ")
G37: =IFERROR(IF(ISBLANK(C37)," ",IF(ISBLANK(D37),"NUM ARBOL",IF(ISBLANK(E37),"DAP",IF(ISBLANK(F37),"ALTURA",IF($E$33="DAP (cm)",PI()*((E37/100)^2)/4*F37*$F$9,IF($E$33="CAP (cm)",PI()*((E37/PI()/100)^2)/4*F37*$F$9))))))," ")
G38: =IFERROR(IF(ISBLANK(C38)," ",IF(ISBLANK(D38),"NUM ARBOL",IF(ISBLANK(E38),"DAP",IF(ISBLANK(F38),"ALTURA",IF($E$33="DAP (cm)",PI()*((E38/100)^2)/4*F38*$F$9,IF($E$33="CAP (cm)",PI()*((E38/PI()/100)^2)/4*F38*$F$9))))))," ")
G39: =IFERROR(IF(ISBLANK(C39)," ",IF(ISBLANK(D39),"NUM ARBOL",IF(ISBLANK(E39),"DAP",IF(ISBLANK(F39),"ALTURA",IF($E$33="DAP (cm)",PI()*((E39/100)^2)/4*F39*$F$9,IF($E$33="CAP (cm)",PI()*((E39/PI()/100)^2)/4*F39*$F$9))))))," ")
G40: =IFERROR(IF(ISBLANK(C40)," ",IF(ISBLANK(D40),"NUM ARBOL",IF(ISBLANK(E40),"DAP",IF(ISBLANK(F40),"ALTURA",IF($E$33="DAP (cm)",PI()*((E40/100)^2)/4*F40*$F$9,IF($E$33="CAP (cm)",PI()*((E40/PI()/100)^2)/4*F40*$F$9))))))," ")
G41: =IFERROR(IF(ISBLANK(C41)," ",IF(ISBLANK(D41),"NUM ARBOL",IF(ISBLANK(E41),"DAP",IF(ISBLANK(F41),"ALTURA",IF($E$33="DAP (cm)",PI()*((E41/100)^2)/4*F41*$F$9,IF($E$33="CAP (cm)",PI()*((E41/PI()/100)^2)/4*F41*$F$9))))))," ")
G42: =IFERROR(IF(ISBLANK(C42)," ",IF(ISBLANK(D42),"NUM ARBOL",IF(ISBLANK(E42),"DAP",IF(ISBLANK(F42),"ALTURA",IF($E$33="DAP (cm)",PI()*((E42/100)^2)/4*F42*$F$9,IF($E$33="CAP (cm)",PI()*((E42/PI()/100)^2)/4*F42*$F$9))))))," ")
...

Sheet LTE2 RESUMEN (Imprimir)
B1: 1. DATOS DE UBICACIÓN DEL PREDIO
B2: Provincia: | C2: ='INGRESO INVENTARIO LTE2'!C2 -> 0 | E2: Cantón: | F2: ='INGRESO INVENTARIO LTE2'!F2 -> 0
B3: Parroquia: | C3: ='INGRESO INVENTARIO LTE2'!C3 -> 0 | E3: Zonal | F3: ='INGRESO INVENTARIO LTE2'!F3
B4: Sitio: | C4: ='INGRESO INVENTARIO LTE2'!C4 -> 0 | E4: Nombre del predio: | F4: ='INGRESO INVENTARIO LTE2'!F4 -> 0
B5: 2. DATOS DEL BENEFICIARIO Y EJECUTOR
B6: Nombre del beneficiario: | D6: ='INGRESO INVENTARIO LTE2'!D6:E6 -> 0 | F6: Cédula o RUC | G6: ='INGRESO INVENTARIO LTE2'!G6 -> 0
B7: Nombre del ejecutor: | D7: ='INGRESO INVENTARIO LTE2'!D7:E7 -> 0 | F7: Cédula o RUC | G7: ='INGRESO INVENTARIO LTE2'!G7 -> 0
B8: Profesional Forestal: | D8: ='INGRESO INVENTARIO LTE2'!D8:E8 -> 0 | F8: Registro Forestal | G8: ='INGRESO INVENTARIO LTE2'!G8 -> 0
B9: 3. DATOS DEL INVENTARIO
B10: Superf. parcela (m²) | C10: ='INGRESO INVENTARIO LTE2'!C10 -> 0 | D10: Superf. plantación (ha) | E10: ='INGRESO INVENTARIO LTE2'!E10 -> 0 | F10: Aprovechamiento | G10: ='INGRESO INVENTARIO LTE2'!G10 -> 0
B11: Tipo de cobertura vegetal | D11: ='INGRESO INVENTARIO LTE2'!D11:E11 -> 0 | F11: Edad | G11: ='INGRESO INVENTARIO LTE2'!G11 -> 0
B12: ='INGRESO INVENTARIO LTE2'!B12 | C12: ='INGRESO INVENTARIO LTE2'!C12:D12 -> 0 | E12: ='INGRESO INVENTARIO LTE2'!E12 | F12: ='INGRESO INVENTARIO LTE2'!F12 -> Factor forma | G12: ='INGRESO INVENTARIO LTE2'!G12
B13: ='INGRESO INVENTARIO LTE2'!B13 | C13: ='INGRESO INVENTARIO LTE2'!C13 -> 0 | E13: ='INGRESO INVENTARIO LTE2'!E13 | F13: ='INGRESO INVENTARIO LTE2'!F13 -> Factor forma | G13: ='INGRESO INVENTARIO LTE2'!G13 -> 0
B14: 4. COORDENADAS DE LAS PARCELAS (UTM - WGS 84 ZONA 17 SUR)
B15: Nro. Parcela | C15: Este | D15: Norte | E15: Nro. Parcela | F15: Este | G15: Norte
B16: ='INGRESO INVENTARIO LTE2'!B16 -> 0 | C16: ='INGRESO INVENTARIO LTE2'!C16 -> 0 | D16: ='INGRESO INVENTARIO LTE2'!D16 -> 0 | E16: ='INGRESO INVENTARIO LTE2'!E16 -> 0 | F16: ='INGRESO INVENTARIO LTE2'!F16 -> 0 | G16: ='INGRESO INVENTARIO LTE2'!G16 -> 0
B17: ='INGRESO INVENTARIO LTE2'!B17 -> 0 | C17: ='INGRESO INVENTARIO LTE2'!C17 -> 0 | D17: ='INGRESO INVENTARIO LTE2'!D17 -> 0 | E17: ='INGRESO INVENTARIO LTE2'!E17 -> 0 | F17: ='INGRESO INVENTARIO LTE2'!F17 -> 0 | G17: ='INGRESO INVENTARIO LTE2'!G17 -> 0
B18: ='INGRESO INVENTARIO LTE2'!B18 -> 0 | C18: ='INGRESO INVENTARIO LTE2'!C18 -> 0 | D18: ='INGRESO INVENTARIO LTE2'!D18 -> 0 | E18: ='INGRESO INVENTARIO LTE2'!E18 -> 0 | F18: ='INGRESO INVENTARIO LTE2'!F18 -> 0 | G18: ='INGRESO INVENTARIO LTE2'!G18 -> 0
B19: ='INGRESO INVENTARIO LTE2'!B19 -> 0 | C19: ='INGRESO INVENTARIO LTE2'!C19 -> 0 | D19: ='INGRESO INVENTARIO LTE2'!D19 -> 0 | E19: ='INGRESO INVENTARIO LTE2'!E19 -> 0 | F19: ='INGRESO INVENTARIO LTE2'!F19 -> 0 | G19: ='INGRESO INVENTARIO LTE2'!G19 -> 0
B20: ='INGRESO INVENTARIO LTE2'!B20 -> 0 | C20: ='INGRESO INVENTARIO LTE2'!C20 -> 0 | D20: ='INGRESO INVENTARIO LTE2'!D20 -> 0 | E20: ='INGRESO INVENTARIO LTE2'!E20 -> 0 | F20: ='INGRESO INVENTARIO LTE2'!F20 -> 0 | G20: ='INGRESO INVENTARIO LTE2'!G20 -> 0
B21: ='INGRESO INVENTARIO LTE2'!B21 -> 0 | C21: ='INGRESO INVENTARIO LTE2'!C21 -> 0 | D21: ='INGRESO INVENTARIO LTE2'!D21 -> 0 | E21: ='INGRESO INVENTARIO LTE2'!E21 -> 0 | F21: ='INGRESO INVENTARIO LTE2'!F21 -> 0 | G21: ='INGRESO INVENTARIO LTE2'!G21 -> 0
B22: ='INGRESO INVENTARIO LTE2'!B22 -> 0 | C22: ='INGRESO INVENTARIO LTE2'!C22 -> 0 | D22: ='INGRESO INVENTARIO LTE2'!D22 -> 0 | E22: ='INGRESO INVENTARIO LTE2'!E22 -> 0 | F22: ='INGRESO INVENTARIO LTE2'!F22 -> 0 | G22: ='INGRESO INVENTARIO LTE2'!G22 -> 0
B23: ='INGRESO INVENTARIO LTE2'!B23 -> 0 | C23: ='INGRESO INVENTARIO LTE2'!C23 -> 0 | D23: ='INGRESO INVENTARIO LTE2'!D23 -> 0 | E23: ='INGRESO INVENTARIO LTE2'!E23 -> 0 | F23: ='INGRESO INVENTARIO LTE2'!F23 -> 0 | G23: ='INGRESO INVENTARIO LTE2'!G23 -> 0
B24: ='INGRESO INVENTARIO LTE2'!B24 -> 0 | C24: ='INGRESO INVENTARIO LTE2'!C24 -> 0 | D24: ='INGRESO INVENTARIO LTE2'!D24 -> 0 | E24: ='INGRESO INVENTARIO LTE2'!E24 -> 0 | F24: ='INGRESO INVENTARIO LTE2'!F24 -> 0 | G24: ='INGRESO INVENTARIO LTE2'!G24 -> 0
B25: ='INGRESO INVENTARIO LTE2'!B25 -> 0 | C25: ='INGRESO INVENTARIO LTE2'!C25 -> 0 | D25: ='INGRESO INVENTARIO LTE2'!D25 -> 0 | E25: ='INGRESO INVENTARIO LTE2'!E25 -> 0 | F25: ='INGRESO INVENTARIO LTE2'!F25 -> 0 | G25: ='INGRESO INVENTARIO LTE2'!G25 -> 0
B26: ='INGRESO INVENTARIO LTE2'!B26 -> 0 | C26: ='INGRESO INVENTARIO LTE2'!C26 -> 0 | D26: ='INGRESO INVENTARIO LTE2'!D26 -> 0 | E26: ='INGRESO INVENTARIO LTE2'!E26 -> 0 | F26: ='INGRESO INVENTARIO LTE2'!F26 -> 0 | G26: ='INGRESO INVENTARIO LTE2'!G26 -> 0
B27: ='INGRESO INVENTARIO LTE2'!B27 -> 0 | C27: ='INGRESO INVENTARIO LTE2'!C27 -> 0 | D27: ='INGRESO INVENTARIO LTE2'!D27 -> 0 | E27: ='INGRESO INVENTARIO LTE2'!E27 -> 0 | F27: ='INGRESO INVENTARIO LTE2'!F27 -> 0 | G27: ='INGRESO INVENTARIO LTE2'!G27 -> 0
... B30: ='INGRESO INVENTARIO LTE2'!B30 -> 0 | C30: ='INGRESO INVENTARIO LTE2'!C30 -> 0 | D30: ='INGRESO INVENTARIO LTE2'!D30 -> 0 | E30: ='INGRESO INVENTARIO LTE2'!E30 -> 0 | F30: ='INGRESO INVENTARIO LTE2'!F30 -> 0 | G30: ='INGRESO INVENTARIO LTE2'!G30 -> 0
B32: Estadísticas | C32: Volumen | D32: Nro. Árboles | F32: Estadísticas | G32: Volumen | H32: Nro. Árboles
B33: Min | C33: =IF(ISNUMBER(D51),MIN(D51:D78),"") | D33: =MIN(B51:B78) -> 0 | F33: Min | G33: =IF(ISNUMBER(H51),MIN(H51:H78)," ") | H33: =MIN(F51:F78) -> 0
B34: Max | C34: =IF(ISNUMBER(D51),MAX(D51:D78)," ") | D34: =IF(ISNUMBER(B51),MAX(B51:B78)," ") | F34: Max | G34: =IF(ISNUMBER(H51),MAX(H51:H78)," ") | H34: =IF(ISNUMBER(F51),MAX(F51:F78)," ")
B35: Promedio | C35: =IF(ISNUMBER(D51),AVERAGE(D51:D78)," ") | D35: =IF(ISNUMBER(B51),AVERAGE(B51:B78)," ") | F35: Promedio | G35: =IF(ISNUMBER(H51),AVERAGE(H51:H78)," ") | H35: =IF(ISNUMBER(F51),AVERAGE(F51:F78)," ")
B36: Varianza | C36: =IFERROR(IF(ISNUMBER(D51),VAR(D51:D78)," ")," ") | D36: =IFERROR(IF(ISNUMBER(B51),VAR(B51:B78)," ")," ") | F36: Varianza | G36: =IFERROR(IF(ISNUMBER(H51),VAR(H51:H78)," ")," ") | H36: =IFERROR(IF(ISNUMBER(F51),VAR(F51:F78)," ")," ")
B37: DevStd | C37: =IFERROR(IF(ISNUMBER(D51),STDEV(D51:D78)," ")," ") | D37: =IFERROR(IF(ISNUMBER(B51),STDEV(B51:B78)," ")," ") | F37: DevStd | G37: =IFERROR(IF(ISNUMBER(H51),STDEV(H51:H78)," ")," ") | H37: =IFERROR(IF(ISNUMBER(F51),STDEV(F51:F78)," ")," ")
B38: CV% | C38: =IFERROR(IF(ISNUMBER(D51),TRUNC((C37/C35)*100,2)," ")," ") | D38: =IFERROR(IF(ISNUMBER(B51),TRUNC((D37/D35)*100,2)," ")," ") | F38: CV% | G38: =IFERROR(IF(ISNUMBER(H51),TRUNC((G37/G35)*100,2)," ")," ") | H38: =IFERROR(IF(ISNUMBER(F51),TRUNC((H37/H35)*100,2)," ")," ")
B39: Error Std | C39: =IFERROR(IF(ISNUMBER(D51),C37/COUNT(A51:A78)," ")," ") | D39: =IFERROR(IF(ISNUMBER(B51),D37/COUNT(A51:A78)," ")," ") | F39: Error Std | G39: =IFERROR(IF(ISNUMBER(H51),G37/COUNT(A51:A78)," ")," ") | H39: =IFERROR(IF(ISNUMBER(F51),H37/COUNT(A51:A78)," ")," ")
B40: Error M % | C40: =IFERROR(IF(ISNUMBER(C39),TRUNC((C39*D41/C35)*100,2)," "),0) | D40: =IFERROR(IF(ISNUMBER(D39),TRUNC((D39*D41/D35)*100,2)," ")," ") | F40: Error M % | G40: =IFERROR(IF(ISNUMBER(G39),TRUNC((G39*H41/G35)*100,2)," "),0) | H40: =IFERROR(IF(ISNUMBER(H39),TRUNC((H39*H41/H35)*100,2)," ")," ")
B41: T0,05 | D41: =IFERROR(IF(ISNUMBER(D51),-_xlfn.T.INV(0.05,COUNT(A51:A78)-1)," ")," ") | F41: T0,05 | H41: =IFERROR(IF(ISNUMBER(H51),-_xlfn.T.INV(0.05,COUNT(A51:A78)-1)," ")," ")
B42: Sumatoria Vol. de parcel. (m³) | D42: =IF(ISNUMBER(D51),SUM(D51:D78)," ") | F42: Sumatoria Vol. de parcel. (m³) | H42: =IF(ISNUMBER(H51),SUM(H51:H78)," ")
B43: SOLICITUD | C43: Volumen | D43: Árboles | F43: SOLICITUD | G43: Volumen | H43: Árboles
...

Sheet INGRESO INVENTARIO LTE3
B1: 1. DATOS DE UBICACIÓN DEL PREDIO | E1: =VLOOKUP(C2,'Provincias y cantones'!B3:D26,3,FALSE) -> #N/A
B2: Provincia: | E2: Cantón:
B3: Parroquia: | E3: Zonal | F3: =IFERROR(VLOOKUP($C$2,Hoja1!F2:G29,2,0),"")
B4: Sitio: | E4: Nombre del predio:
B5: 2. DATOS DEL BENEFICIARIO Y EJECUTOR
B6: Nombre del beneficiario: | F6: Cédula o RUC
B7: Nombre del ejecutor: | F7: Cédula o RUC
B8: Profesional Forestal: | F8: Nro. Registro Forestal
B9: 3. DATOS DEL INVENTARIO | F9: =IF(ISBLANK(C12)," ",VLOOKUP(C12,ESPECIE,3,FALSE)) | G9: =IF(ISBLANK(C13)," ",VLOOKUP(C13,ESPECIE,3,FALSE))
B10: Superf. parcela (m²) | D10: Superf. plantada (ha) | F10: Aprovechamiento
B11: Cobertura vegetal | F11: Edad (años)
B12: =IF(ISTEXT(C12),"Especie1"," ") | E12: =IF(ISBLANK(C12)," ",VLOOKUP(C12,ESPECIE,2,FALSE)) | F12: ="Factor forma "&IF(ISBLANK(C12)," ",VLOOKUP(C12,ESPECIE,3,FALSE)) -> Factor forma | G12: =IF(G10="Raleo","Intensidad de raleo","")
B13: =IF(ISTEXT(C13),"Especie2"," ") | E13: =IF(ISBLANK(C13)," ",VLOOKUP(C13,ESPECIE,2,FALSE)) | F13: ="Factor forma "&IF(ISBLANK(C13)," ",VLOOKUP(C13,ESPECIE,3,FALSE)) -> Factor forma
B14: 4. COORDENADAS DE LAS PARCELAS (UTM - WGS 84 ZONA 17 SUR)
B15: Nro. Parcela | C15: Este | D15: Norte | E15: Nro. Parcela | F15: Este | G15: Norte
B16: =IF(C16>0,1,0) -> 0 | E16: =IF(F16>0,IF(B30>0,B30+1,0),0) -> 0
B17: =IF(C17>0,IF(B16>0,B16+1,0),0) -> 0 | E17: =IF(F17>0,IF(E16>0,E16+1,0),0) -> 0
B18: =IF(C18>0,IF(B17>0,B17+1,0),0) -> 0 | E18: =IF(F18>0,IF(E17>0,E17+1,0),0) -> 0
B19: =IF(C19>0,IF(B18>0,B18+1,0),0) -> 0 | E19: =IF(F19>0,IF(E18>0,E18+1,0),0) -> 0
B20: =IF(C20>0,IF(B19>0,B19+1,0),0) -> 0 | E20: =IF(F20>0,IF(E19>0,E19+1,0),0) -> 0
B21: =IF(C21>0,IF(B20>0,B20+1,0),0) -> 0 | E21: =IF(F21>0,IF(E20>0,E20+1,0),0) -> 0
B22: =IF(C22>0,IF(B21>0,B21+1,0),0) -> 0 | E22: =IF(F22>0,IF(E21>0,E21+1,0),0) -> 0
B23: =IF(C23>0,IF(B22>0,B22+1,0),0) -> 0 | E23: =IF(F23>0,IF(E22>0,E22+1,0),0) -> 0
B24: =IF(C24>0,IF(B23>0,B23+1,0),0) -> 0 | E24: =IF(F24>0,IF(E23>0,E23+1,0),0) -> 0
B25: =IF(C25>0,IF(B24>0,B24+1,0),0) -> 0 | E25: =IF(F25>0,IF(E24>0,E24+1,0),0) -> 0
B26: =IF(C26>0,IF(B25>0,B25+1,0),0) -> 0 | E26: =IF(F26>0,IF(E25>0,E25+1,0),0) -> 0
B27: =IF(C27>0,IF(B26>0,B26+1,0),0) -> 0 | E27: =IF(F27>0,IF(E26>0,E26+1,0),0) -> 0
B28: =IF(C28>0,IF(B27>0,B27+1,0),0) -> 0 | E28: =IF(F28>0,IF(E27>0,E27+1,0),0) -> 0
... B30: =IF(C30>0,IF(B29>0,B29+1,0),0) -> 0 | E30: =IF(F30>0,IF(E29>0,E29+1,0),0) -> 0
B32: 5. REGISTRO DE DATOS DE LAS PARCELAS
B33: Nro. Especie | C33: Nro. Parcela | D33: Nro. Arbol | E33: CAP (cm) | F33: Alt. comercial (m) | G33: Volumen (m3)
G34: =IFERROR(IF(ISBLANK(C34)," ",IF(ISBLANK(D34),"NUM ARBOL",IF(ISBLANK(E34),"DAP",IF(ISBLANK(F34),"ALTURA",IF($E$33="DAP (cm)",PI()*((E34/100)^2)/4*F34*$F$9,IF($E$33="CAP (cm)",PI()*((E34/PI()/100)^2)/4*F34*$F$9))))))," ")
G35: =IFERROR(IF(ISBLANK(C35)," ",IF(ISBLANK(D35),"NUM ARBOL",IF(ISBLANK(E35),"DAP",IF(ISBLANK(F35),"ALTURA",IF($E$33="DAP (cm)",PI()*((E35/100)^2)/4*F35*$F$9,IF($E$33="CAP (cm)",PI()*((E35/PI()/100)^2)/4*F35*$F$9))))))," ")
G36: =IFERROR(IF(ISBLANK(C36)," ",IF(ISBLANK(D36),"NUM ARBOL",IF(ISBLANK(E36),"DAP",IF(ISBLANK(F36),"ALTURA",IF($E$33="DAP (cm)",PI()*((E36/100)^2)/4*F36*$F$9,IF($E$33="CAP (cm)",PI()*((E36/PI()/100)^2)/4*F36*$F$9))))))," ")
G37: =IFERROR(IF(ISBLANK(C37)," ",IF(ISBLANK(D37),"NUM ARBOL",IF(ISBLANK(E37),"DAP",IF(ISBLANK(F37),"ALTURA",IF($E$33="DAP (cm)",PI()*((E37/100)^2)/4*F37*$F$9,IF($E$33="CAP (cm)",PI()*((E37/PI()/100)^2)/4*F37*$F$9))))))," ")
G38: =IFERROR(IF(ISBLANK(C38)," ",IF(ISBLANK(D38),"NUM ARBOL",IF(ISBLANK(E38),"DAP",IF(ISBLANK(F38),"ALTURA",IF($E$33="DAP (cm)",PI()*((E38/100)^2)/4*F38*$F$9,IF($E$33="CAP (cm)",PI()*((E38/PI()/100)^2)/4*F38*$F$9))))))," ")
G39: =IFERROR(IF(ISBLANK(C39)," ",IF(ISBLANK(D39),"NUM ARBOL",IF(ISBLANK(E39),"DAP",IF(ISBLANK(F39),"ALTURA",IF($E$33="DAP (cm)",PI()*((E39/100)^2)/4*F39*$F$9,IF($E$33="CAP (cm)",PI()*((E39/PI()/100)^2)/4*F39*$F$9))))))," ")
G40: =IFERROR(IF(ISBLANK(C40)," ",IF(ISBLANK(D40),"NUM ARBOL",IF(ISBLANK(E40),"DAP",IF(ISBLANK(F40),"ALTURA",IF($E$33="DAP (cm)",PI()*((E40/100)^2)/4*F40*$F$9,IF($E$33="CAP (cm)",PI()*((E40/PI()/100)^2)/4*F40*$F$9))))))," ")
G41: =IFERROR(IF(ISBLANK(C41)," ",IF(ISBLANK(D41),"NUM ARBOL",IF(ISBLANK(E41),"DAP",IF(ISBLANK(F41),"ALTURA",IF($E$33="DAP (cm)",PI()*((E41/100)^2)/4*F41*$F$9,IF($E$33="CAP (cm)",PI()*((E41/PI()/100)^2)/4*F41*$F$9))))))," ")
G42: =IFERROR(IF(ISBLANK(C42)," ",IF(ISBLANK(D42),"NUM ARBOL",IF(ISBLANK(E42),"DAP",IF(ISBLANK(F42),"ALTURA",IF($E$33="DAP (cm)",PI()*((E42/100)^2)/4*F42*$F$9,IF($E$33="CAP (cm)",PI()*((E42/PI()/100)^2)/4*F42*$F$9))))))," ")
...

Sheet LTE3 RESUMEN (Imprimir)
B1: 1. DATOS DE UBICACIÓN DEL PREDIO
B2: Provincia: | C2: ='INGRESO INVENTARIO LTE3'!C2 -> 0 | E2: Cantón: | F2: ='INGRESO INVENTARIO LTE3'!F2 -> 0
B3: Parroquia: | C3: ='INGRESO INVENTARIO LTE3'!C3 -> 0 | E3: Zonal | F3: ='INGRESO INVENTARIO LTE3'!F3
B4: Sitio: | C4: ='INGRESO INVENTARIO LTE3'!C4 -> 0 | E4: Nombre del predio: | F4: ='INGRESO INVENTARIO LTE3'!F4 -> 0
B5: 2. DATOS DEL BENEFICIARIO Y EJECUTOR
B6: Nombre del beneficiario: | D6: ='INGRESO INVENTARIO LTE3'!D6:E6 -> 0 | F6: Cédula o RUC | G6: ='INGRESO INVENTARIO LTE3'!G6 -> 0
B7: Nombre del ejecutor: | D7: ='INGRESO INVENTARIO LTE3'!D7:E7 -> 0 | F7: Cédula o RUC | G7: ='INGRESO INVENTARIO LTE3'!G7 -> 0
B8: Profesional Forestal: | D8: ='INGRESO INVENTARIO LTE3'!D8:E8 -> 0 | F8: Registro Forestal | G8: ='INGRESO INVENTARIO LTE3'!G8 -> 0
B9: 3. DATOS DEL INVENTARIO
B10: Superf. parcela (m²) | C10: ='INGRESO INVENTARIO LTE3'!C10 -> 0 | D10: Superf. plantación (ha) | E10: ='INGRESO INVENTARIO LTE3'!E10 -> 0 | F10: Aprovechamiento | G10: ='INGRESO INVENTARIO LTE3'!G10 -> 0
B11: Tipo de cobertura vegetal | D11: ='INGRESO INVENTARIO LTE3'!D11:E11 -> 0 | F11: Edad | G11: ='INGRESO INVENTARIO LTE3'!G11 -> 0
B12: ='INGRESO INVENTARIO LTE3'!B12 | C12: ='INGRESO INVENTARIO LTE3'!C12:D12 -> 0 | E12: ='INGRESO INVENTARIO LTE3'!E12 | F12: ='INGRESO INVENTARIO LTE3'!F12 -> Factor forma | G12: ='INGRESO INVENTARIO LTE3'!G12
B13: ='INGRESO INVENTARIO LTE3'!B13 | C13: ='INGRESO INVENTARIO LTE3'!C13 -> 0 | E13: ='INGRESO INVENTARIO LTE3'!E13 | F13: ='INGRESO INVENTARIO LTE3'!F13 -> Factor forma | G13: ='INGRESO INVENTARIO LTE3'!G13 -> 0
B14: 4. COORDENADAS DE LAS PARCELAS (UTM - WGS 84 ZONA 17 SUR)
B15: Nro. Parcela | C15: Este | D15: Norte | E15: Nro. Parcela | F15: Este | G15: Norte
B16: ='INGRESO INVENTARIO LTE3'!B16 -> 0 | C16: ='INGRESO INVENTARIO LTE3'!C16 -> 0 | D16: ='INGRESO INVENTARIO LTE3'!D16 -> 0 | E16: ='INGRESO INVENTARIO LTE3'!E16 -> 0 | F16: ='INGRESO INVENTARIO LTE3'!F16 -> 0 | G16: ='INGRESO INVENTARIO LTE3'!G16 -> 0
B17: ='INGRESO INVENTARIO LTE3'!B17 -> 0 | C17: ='INGRESO INVENTARIO LTE3'!C17 -> 0 | D17: ='INGRESO INVENTARIO LTE3'!D17 -> 0 | E17: ='INGRESO INVENTARIO LTE3'!E17 -> 0 | F17: ='INGRESO INVENTARIO LTE3'!F17 -> 0 | G17: ='INGRESO INVENTARIO LTE3'!G17 -> 0
B18: ='INGRESO INVENTARIO LTE3'!B18 -> 0 | C18: ='INGRESO INVENTARIO LTE3'!C18 -> 0 | D18: ='INGRESO INVENTARIO LTE3'!D18 -> 0 | E18: ='INGRESO INVENTARIO LTE3'!E18 -> 0 | F18: ='INGRESO INVENTARIO LTE3'!F18 -> 0 | G18: ='INGRESO INVENTARIO LTE3'!G18 -> 0
B19: ='INGRESO INVENTARIO LTE3'!B19 -> 0 | C19: ='INGRESO INVENTARIO LTE3'!C19 -> 0 | D19: ='INGRESO INVENTARIO LTE3'!D19 -> 0 | E19: ='INGRESO INVENTARIO LTE3'!E19 -> 0 | F19: ='INGRESO INVENTARIO LTE3'!F19 -> 0 | G19: ='INGRESO INVENTARIO LTE3'!G19 -> 0
B20: ='INGRESO INVENTARIO LTE3'!B20 -> 0 | C20: ='INGRESO INVENTARIO LTE3'!C20 -> 0 | D20: ='INGRESO INVENTARIO LTE3'!D20 -> 0 | E20: ='INGRESO INVENTARIO LTE3'!E20 -> 0 | F20: ='INGRESO INVENTARIO LTE3'!F20 -> 0 | G20: ='INGRESO INVENTARIO LTE3'!G20 -> 0
B21: ='INGRESO INVENTARIO LTE3'!B21 -> 0 | C21: ='INGRESO INVENTARIO LTE3'!C21 -> 0 | D21: ='INGRESO INVENTARIO LTE3'!D21 -> 0 | E21: ='INGRESO INVENTARIO LTE3'!E21 -> 0 | F21: ='INGRESO INVENTARIO LTE3'!F21 -> 0 | G21: ='INGRESO INVENTARIO LTE3'!G21 -> 0
B22: ='INGRESO INVENTARIO LTE3'!B22 -> 0 | C22: ='INGRESO INVENTARIO LTE3'!C22 -> 0 | D22: ='INGRESO INVENTARIO LTE3'!D22 -> 0 | E22: ='INGRESO INVENTARIO LTE3'!E22 -> 0 | F22: ='INGRESO INVENTARIO LTE3'!F22 -> 0 | G22: ='INGRESO INVENTARIO LTE3'!G22 -> 0
B23: ='INGRESO INVENTARIO LTE3'!B23 -> 0 | C23: ='INGRESO INVENTARIO LTE3'!C23 -> 0 | D23: ='INGRESO INVENTARIO LTE3'!D23 -> 0 | E23: ='INGRESO INVENTARIO LTE3'!E23 -> 0 | F23: ='INGRESO INVENTARIO LTE3'!F23 -> 0 | G23: ='INGRESO INVENTARIO LTE3'!G23 -> 0
B24: ='INGRESO INVENTARIO LTE3'!B24 -> 0 | C24: ='INGRESO INVENTARIO LTE3'!C24 -> 0 | D24: ='INGRESO INVENTARIO LTE3'!D24 -> 0 | E24: ='INGRESO INVENTARIO LTE3'!E24 -> 0 | F24: ='INGRESO INVENTARIO LTE3'!F24 -> 0 | G24: ='INGRESO INVENTARIO LTE3'!G24 -> 0
B25: ='INGRESO INVENTARIO LTE3'!B25 -> 0 | C25: ='INGRESO INVENTARIO LTE3'!C25 -> 0 | D25: ='INGRESO INVENTARIO LTE3'!D25 -> 0 | E25: ='INGRESO INVENTARIO LTE3'!E25 -> 0 | F25: ='INGRESO INVENTARIO LTE3'!F25 -> 0 | G25: ='INGRESO INVENTARIO LTE3'!G25 -> 0
B26: ='INGRESO INVENTARIO LTE3'!B26 -> 0 | C26: ='INGRESO INVENTARIO LTE3'!C26 -> 0 | D26: ='INGRESO INVENTARIO LTE3'!D26 -> 0 | E26: ='INGRESO INVENTARIO LTE3'!E26 -> 0 | F26: ='INGRESO INVENTARIO LTE3'!F26 -> 0 | G26: ='INGRESO INVENTARIO LTE3'!G26 -> 0
B27: ='INGRESO INVENTARIO LTE3'!B27 -> 0 | C27: ='INGRESO INVENTARIO LTE3'!C27 -> 0 | D27: ='INGRESO INVENTARIO LTE3'!D27 -> 0 | E27: ='INGRESO INVENTARIO LTE3'!E27 -> 0 | F27: ='INGRESO INVENTARIO LTE3'!F27 -> 0 | G27: ='INGRESO INVENTARIO LTE3'!G27 -> 0
... B30: ='INGRESO INVENTARIO LTE3'!B30 -> 0 | C30: ='INGRESO INVENTARIO LTE3'!C30 -> 0 | D30: ='INGRESO INVENTARIO LTE3'!D30 -> 0 | E30: ='INGRESO INVENTARIO LTE3'!E30 -> 0 | F30: ='INGRESO INVENTARIO LTE3'!F30 -> 0 | G30: ='INGRESO INVENTARIO LTE3'!G30 -> 0
B32: Estadísticas | C32: Volumen | D32: Nro. Árboles | F32: Estadísticas | G32: Volumen | H32: Nro. Árboles
B33: Min | C33: =IF(ISNUMBER(D51),MIN(D51:D78),"") | D33: =MIN(B51:B78) -> 0 | F33: Min | G33: =IF(ISNUMBER(H51),MIN(H51:H78)," ") | H33: =MIN(F51:F78) -> 0
B34: Max | C34: =IF(ISNUMBER(D51),MAX(D51:D78)," ") | D34: =IF(ISNUMBER(B51),MAX(B51:B78)," ") | F34: Max | G34: =IF(ISNUMBER(H51),MAX(H51:H78)," ") | H34: =IF(ISNUMBER(F51),MAX(F51:F78)," ")
B35: Promedio | C35: =IF(ISNUMBER(D51),AVERAGE(D51:D78)," ") | D35: =IF(ISNUMBER(B51),AVERAGE(B51:B78)," ") | F35: Promedio | G35: =IF(ISNUMBER(H51),AVERAGE(H51:H78)," ") | H35: =IF(ISNUMBER(F51),AVERAGE(F51:F78)," ")
B36: Varianza | C36: =IFERROR(IF(ISNUMBER(D51),VAR(D51:D78)," ")," ") | D36: =IFERROR(IF(ISNUMBER(B51),VAR(B51:B78)," ")," ") | F36: Varianza | G36: =IFERROR(IF(ISNUMBER(H51),VAR(H51:H78)," ")," ") | H36: =IFERROR(IF(ISNUMBER(F51),VAR(F51:F78)," ")," ")
B37: DevStd | C37: =IFERROR(IF(ISNUMBER(D51),STDEV(D51:D78)," ")," ") | D37: =IFERROR(IF(ISNUMBER(B51),STDEV(B51:B78)," ")," ") | F37: DevStd | G37: =IFERROR(IF(ISNUMBER(H51),STDEV(H51:H78)," ")," ") | H37: =IFERROR(IF(ISNUMBER(F51),STDEV(F51:F78)," ")," ")
B38: CV% | C38: =IFERROR(IF(ISNUMBER(D51),TRUNC((C37/C35)*100,2)," ")," ") | D38: =IFERROR(IF(ISNUMBER(B51),TRUNC((D37/D35)*100,2)," ")," ") | F38: CV% | G38: =IFERROR(IF(ISNUMBER(H51),TRUNC((G37/G35)*100,2)," ")," ") | H38: =IFERROR(IF(ISNUMBER(F51),TRUNC((H37/H35)*100,2)," ")," ")
B39: Error Std | C39: =IFERROR(IF(ISNUMBER(D51),C37/COUNT(A51:A78)," ")," ") | D39: =IFERROR(IF(ISNUMBER(B51),D37/COUNT(A51:A78)," ")," ") | F39: Error Std | G39: =IFERROR(IF(ISNUMBER(H51),G37/COUNT(A51:A78)," ")," ") | H39: =IFERROR(IF(ISNUMBER(F51),H37/COUNT(A51:A78)," ")," ")
B40: Error M % | C40: =IFERROR(IF(ISNUMBER(C39),TRUNC((C39*D41/C35)*100,2)," "),0) | D40: =IFERROR(IF(ISNUMBER(D39),TRUNC((D39*D41/D35)*100,2)," ")," ") | F40: Error M % | G40: =IFERROR(IF(ISNUMBER(G39),TRUNC((G39*H41/G35)*100,2)," "),0) | H40: =IFERROR(IF(ISNUMBER(H39),TRUNC((H39*H41/H35)*100,2)," ")," ")
B41: T0,05 | D41: =IFERROR(IF(ISNUMBER(D51),-_xlfn.T.INV(0.05,COUNT(A51:A78)-1)," ")," ") | F41: T0,05 | H41: =IFERROR(IF(ISNUMBER(H51),-_xlfn.T.INV(0.05,COUNT(A51:A78)-1)," ")," ")
B42: Sumatoria Vol. de parcel. (m³) | D42: =IF(ISNUMBER(D51),SUM(D51:D78)," ") | F42: Sumatoria Vol. de parcel. (m³) | H42: =IF(ISNUMBER(H51),SUM(H51:H78)," ")
B43: SOLICITUD | C43: Volumen | D43: Árboles | F43: SOLICITUD | G43: Volumen | H43: Árboles
...

Sheet Hoja1
B1: ESPECIE | C1: CÓDIGO | D1: FACTOR DE FORMA | F1: Provincias | G1: Zonal | I1: DPA_DESPRO | J1: DPA_PROVIN | K1: Columna1 | O1: ESPECIE | P1: FACTOR DE FORMA | R1: Provincias
B2: Acacia dealbata (Acacia) | C2: TBP35a | D2: 0.7 | F2: Esmeraldas | G2: 1 | I2: Azuay | J2: 01 | K2: =I2 -> Azuay | O2: ACACIA (Acacia dealbata) | P2: 0.7 | R2: Azuay
B3: Acacia glomerosa (Guarango) | C3: TBP26b | D3: 0.7 | F3: Carchi | G3: 1 | I3: Bolívar | J3: 02 | K3: =I3 -> Bolívar | O3: ACACIA (Acacia riparia) | P3: 0.7 | R3: Bolívar
B4: Acacia macracantha (Faique) | C4: TBP63 | D4: 0.7 | F4: Imbabura | G4: 1 | I4: Cañar | J4: 03 | K4: =I4 -> Cañar | O4: ACACIA NEGRA (Acacia melanoxylon) | P4: 0.7 | R4: Cañar
B5: Acacia melanoxylon (Acacia negra) | C5: TBP36 | D5: 0.7 | F5: Sucumbíos | G5: 1 | I5: Carchi | J5: 04 | K5: =I5 -> Carchi | O5: AGUACATE (Persea americana) | P5: 0.7 | R5: Carchi
B6: Acacia riparia (Acacia) | C6: TBP35b | D6: 0.7 | F6: Pichincha | G6: 2 | I6: Cotopaxi | J6: 05 | K6: =I6 -> Cotopaxi | O6: AGUACATILLO (Ocotea sericea) | P6: 0.7 | R6: Chimborazo
B7: Acrocarpus fraxinifolius (Cedro rosado) | C7: TBP57b | D7: 0.7 | F7: Napo | G7: 2 | I7: Chimborazo | J7: 06 | K7: =I7 -> Chimborazo | O7: AGUACATILLO, CALADE, CALACOLI, CARACOLILLO, CEDRO DE MONTANA, CEDRO CALADE, MARANON (Anacardium excelsum) | P7: 0.7 | R7: Cotopaxi
B8: Aegiphila alba (Lulo, lulu) | C8: TBP76 | D8: 0.7 | F8: Orellana | G8: 2 | I8: El Oro | J8: 07 | K8: ElOro | O8: ALAMO (Populus sp.) | P8: 0.7 | R8: El Oro
B9: Albizia falcata (Albizia) | C9: TBP37 | D9: 0.7 | F9: Pastaza | G9: 3 | I9: Esmeraldas | J9: 08 | K9: =I9 -> Esmeraldas | O9: ALBIZIA (Albizia falcata) | P9: 0.7 | R9: Esmeraldas
B10: Albizia guachapele (Guachapeli) | C10: TBP11a | D10: 0.7 | F10: Cotopaxi | G10: 3 | I10: Guayas | J10: 09 | K10: =I10 -> Guayas | O10: ALISO (Alnus acuminata) | P10: 0.7 | R10: Galápagos
B11: Alnus acuminata (Aliso) | C11: TBP2a | D11: 0.7 | F11: Tungurahua | G11: 3 | I11: Imbabura | J11: 10 | K11: =I11 -> Imbabura | O11: ALISO (Alnus nepalensis) | P11: 0.7 | R11: Guayas
B12: Alnus nepalensis (Aliso) | C12: TBP2b | D12: 0.7 | F12: Chimborazo | G12: 3 | I12: Loja | J12: 11 | K12: =I12 -> Loja | O12: AMARGO, VILLE, CAPULI BLANCO (Simarouba amara) | P12: 0.7 | R12: Imbabura
B13: Anacardium excelsum (Aguacatillo) | C13: TBP39a | D13: 0.7 | F13: Manabí | G13: 4 | I13: Los Ríos | J13: 12 | K13: LosRíos | O13: AMARILLO LAGARTO (Centrolobium paraense) | P13: 0.7 | R13: Loja
B14: Annona muricata (Guanábano) | D14: 0.7 | F14: Santo Domingo de los Tsáchilas | G14: 4 | I14: Manabí | J14: 13 | K14: =I14 -> Manabí | O14: ARABISCO, GARZA, JACARANDA, BORREGO, RABO DE RATON, QUEPAJAPAJIN, AMBATU CASPI (Jacaranda copaia) | P14: 0.7 | R14: Los Ríos
B15: Annona spp. (Chirimoya) | C15: Cpuh | D15: 0.7 | F15: Guayas | G15: 5 | I15: Morona Santiago | J15: 14 | K15: MoronaSantiago | O15: ARABISCO, JACARANDA (Jacaranda mimosifolia) | P15: 0.7 | R15: Manabí
B16: Aphandra natalia (Palma) | C16: TBP87 | D16: 0.7 | F16: Los Ríos | G16: 5 | I16: Napo | J16: 15 | K16: =I16 -> Napo | O16: ARAUCARIA (Araucaria araucana) | P16: 0.7 | R16: Morona Santiago
B17: Araucaria araucana (Araucaria) | C17: TBP43 | D17: 0.7 | F17: Santa Elena | G17: 5 | I17: Pastaza | J17: 16 | K17: =I17 -> Pastaza | O17: BALSA BLANCA, DAMUA, BALSO MACHO, ZAPAN, BALZON, MALVA (Heliocarpus americanus) | P17: 0.7 | R17: Napo
B18: Artocarpus altilis (Fruta de pan) | C18: TBP65 | D18: 0.7 | F18: Bolívar | G18: 5 | I18: Pichincha | J18: 17 | K18: =I18 -> Pichincha | O18: BALSA JIBARO (Heliocarpus sp.) | P18: 0.7 | R18: Orellana
B19: Arundo donax (Caña común caña de castilla) | D19: 0.7 | F19: Galápagos | G19: 5 | I19: Tungurahua | J19: 18 | K19: Tungurahua | O19: BALSA, BOYA (Ochroma lagopus) | P19: 0.7 | R19: Pastaza
B20: Azadirachta indica (Neem) | C20: TBP16 | D20: 0.7 | F20: Azuay | G20: 6 | I20: Zamora Chinchipe | J20: 19 | K20: ZamoraChinchipe | O20: BALSA, BOYA, BALSO MACHO, BALSA JIBARRA, TECUPAJE (Ochroma piramidale) | P20: 0.7 | R20: Pichincha
B21: Bambusa tulda (Bambu) | C21: TBP6a | D21: 0.7 | F21: Cañar | G21: 6 | I21: Galápagos | J21: 20 | K21: Galápagos | O21: BALSAMO, CHAQUITO, CHICAGUINA, CHICAHUINA, SANDALO (Myroxylum balsamum) | P21: 0.7 | R21: Santa Elena
B22: Bambusa vulgaris (Bambu) | C22: TBP6b | D22: 0.7 | F22: Morona Santiago | G22: 6 | I22: Sucumbíos | J22: 21 | K22: Sucumbíos | O22: BAMBU (Bambusa tulda) | P22: 0.7 | R22: Santo Domingo de los Tsáchilas
B23: Brosimum utile (Sande) | C23: TBP90 | D23: 0.7 | F23: El Oro | G23: 7 | I23: Orellana | J23: 22 | K23: =I23 -> Orellana | O23: BAMBU (Bambusa vulgaris) | P23: 0.7 | R23: Sucumbíos
B24: Cabralea canjerana (Cedrillo) | C24: TBP56 | D24: 0.7 | F24: Loja | G24: 7 | I24: Santo Domingo de los Tsáchilas | J24: 23 | K24: STODGO | O24: BAMBU GIGANTE (Dendrocalamus asper) | P24: 0.7 | R24: Tungurahua
B25: Callistemon citrinus (Calistemo árbol del cepillo) | D25: 0.7 | F25: Zamora Chinchipe | G25: 7 | I25: Santa Elena | J25: 24 | K25: SantaElena | O25: BANTANO (Pithecellobium micradenium) | P25: 0.7 | R25: Zamora Chinchipe
B26: Calycophyllum spruceanum Benth (capirona) | D26: 0.7 | F26: Guayaquil | G26: 8 | O26: BOMBON, MAMBLA, NACEDERO, POROTON, PALO PRIETO, ESPINO PRIETO, PEPITA, PEPITO, POROTILLO (Erythrina poeppigiana) | P26: 0.7
B27: Carapa guianensis (Tangare) | C27: TBP31 | D27: 0.7 | F27: Durán | G27: 8 | O27: CACAO DE MONTE (Herrania spp.) | P27: 0.7
B28: Castilla elastica (Caucho) | C28: TBP7b | D28: 0.7 | F28: Samborondón | G28: 8 | O28: CAIMITO, CAIMITILLO, COLORADO (Pouteria spp.) | P28: 0.7
B29: Cedrela odorata (Cedro) | C29: TBP8 | D29: 0.7 | F29: Distrito Metropolitano de Quito | G29: 9 | O29: CALISTEMO | P29: 0.7
B30: Cedrelinga catenaeformis (Chuncho) | C30: TBP33 | D30: 0.7 | O30: CANA GUADUA BRAVA (Guadua aculiata) | P30: 0.7
B31: Ceiba pentandra (Ceibo) | C31: TBP58 | D31: 0.7 | O31: CANA GUADUA MANSA (Guadua angustifolia) | P31: 0.7
B32: Celtis schippii (Tillo) | C32: TBP95 | D32: 0.7 | O32: CANELO, CANELA, CAGUA, JIGUA, ALCANFOR, AMARILLO, TINCHI, YEMA DE HUEVO (Nectandra spp.) | P32: 0.7
B33: Centrolobium paraense (Amarillo lagarto) | C33: TBP41 | D33: 0.7 | O33: CAÑA COMÃšN, CAÑA DE CASTILLA, CAÑABRAVA (Arundo Donax) | P33: 0.7
B34: Chimarrhis spp. (Variable) | C34: TBP96 | D34: 0.7
B35: Chlorophora tinctoria (Moral fino) | C35: TBP83a | D35: 0.7 | O35: CAUCHILLO (Sapium spp) | P35: 0.7
B36: Cordia alliodora (Laurel) | C36: TBP13 | D36: 0.7 | O36: CAUCHO (Castilla elastica) | P36: 0.7
B37: Cordia lutea (Overal) | C37: TBP85 | D37: 0.7 | O37: CAUCHO EXTRANJERO (Hevea brasilensis) | P37: 0.7
B38: Cordia macrantha (Laurel negro) | C38: TBP74 | D38: 0.7 | O38: CEDRILLO, MUSHUA, MASHUA, BATEACASPI (Cabralea canjerana) | P38: 0.7
B39: Cunninghamiana spp. (Casuarina) | C39: TBP54 | D39: 0.7 | O39: CEDRO (Cedrela odorata) | P39: 0.7
B40: Cupressus spp. (Ciprés) | C40: TBP32 | D40: 0.7 | O40: CEDRO ROSADO (Terocarpus sp) | P40: 0.7
...

Sheet Datos
A1: ESPECIE | B1: FACTOR DE FORMA | C1: Altura maxima permisible
A2: ACACIA (Acacia dealbata) | B2: 0.7 | C2: 5
A3: ACACIA (Acacia riparia) | B3: 0.7 | C3: 7
A4: ACACIA NEGRA (Acacia melanoxylon) | B4: 0.7 | C4: 11
A5: AGUACATE (Persea americana) | B5: 0.7 | C5: 15
A6: AGUACATILLO (Ocotea sericea) | B6: 0.7 | C6: 15
A7: AGUACATILLO, CALADE, CALACOLI, CARACOLILLO, CEDRO DE MONTANA, CEDRO CALADE, MARANON (Anacardium excelsum) | B7: 0.7 | C7: 18
A8: ALAMO (Populus sp.) | B8: 0.7 | C8: 20
A9: ALBIZIA (Albizia falcata) | B9: 0.7 | C9: 24
A10: ALISO (Alnus acuminata) | B10: 0.7 | C10: 24
A11: ALISO (Alnus nepalensis) | B11: 0.7 | C11: 24
A12: AMARGO, VILLE, CAPULI BLANCO (Simarouba amara) | B12: 0.7 | C12: 24
A13: AMARILLO LAGARTO (Centrolobium paraense) | B13: 0.7 | C13: 24
... A46: CHALVIANDE, COCO, BRAZILARGO, SACHA MENBRILLO, DONCEL, GUAPA, KUCHAMANIA TSEMPU, TSEMPU, UNAY, OMANDO CCOPIJIN, SANGRE DE TORO (Virola spp.) | B46: 0.7 | C46: 28
A47: CHIRIMOYA, CHIRIMOYO (Annona spp.) | B47: 0.7
A48: CholÃ¡n (Tecoma stans) | B48: 0.7
A49: CHUNCHO, SEIQUE, TSAIK NUMI (Cedrelinga cateniformis) | B49: 0.7
A50: CIPRES (Cupresus macrocarpa) | B50: 0.7
A51: CIRGUELO, JOBO, OVO DE MONTE, OBITO (Spondias mombis) | B51: 0.7
A52: COCO, CHALVIANDE (Virola dixonii) | B52: 0.7
A53: COCO, CHALVIANDE (Virola reidii) | B53: 0.7
A54: COCO, GUAPA, TSEMPU (Virola dukey) | B54: 0.7
A55: COLORADO MANZANO, COLORADO, TUCUTA, CHIALDE GRANDE, PIASTE, MANZANO, YANSAO, BOMBONE, COCO DE CANA (Guarea kunthiana) | B55: 0.7
A56: COPAL, ANIME, PULGANDE (Trattinickia barbouri) | B56: 0.7
A57: COPAL, COPALILLO, ANIME, PULGANDE (Dacryodes occidentalis) | B57: 0.7
A58: CUANGARE (Otoba gracilipes) | B58: 0.7
... A144: VARIABLE (Chimarrhis spp.) | B144: 0.7

Sheet Provincias y cantones
B1: Valores Unicos Especie aprobada | F1: DPA_DESPRO | G1: DPA_PROVIN | H1: DPA_DESCAN | J1: DPA_CANTON | K1: DPA_DESPAR | L1: DPA_PARROQ | O1: DPA_DESPRO | P1: DPA_PROVIN | R1: DPA_DESCAN
B2: DPA_DESPRO | C2: DPA_PROVIN | D2: Columna1 | F2: Zamora Chinchipe | G2: 19 | H2: Centinela del Cóndor | I2: CentinelaCondór | J2: 1907 | K2: Zumbi | L2: 190750 | O2: Azuay | P2: 01 | Q2: =O2 -> Azuay | R2: Camilo Ponce Enríquez
B3: Azuay | C3: 01 | D3: =B3 -> Azuay | F3: Zamora Chinchipe | G3: 19 | H3: Centinela del Cóndor | I3: CentinelaCondór | J3: 1907 | K3: Triunfo - Dorado | L3: 190752 | O3: Azuay | P3: 01 | Q3: =O3 -> Azuay | R3: Chordeleg
B4: Bolívar | C4: 02 | D4: =B4 -> Bolívar | F4: Zamora Chinchipe | G4: 19 | H4: Centinela del Cóndor | I4: CentinelaCondór | J4: 1907 | K4: Panguintza | L4: 190753 | O4: Azuay | P4: 01 | Q4: =O4 -> Azuay | R4: Cuenca
B5: Cañar | C5: 03 | D5: =B5 -> Cañar | F5: Zamora Chinchipe | G5: 19 | H5: Chinchipe | I5: =MID(H5,1,9) -> Chinchipe | J5: 1902 | K5: Pucapamba | L5: 190256 | O5: Azuay | P5: 01 | Q5: =O5 -> Azuay | R5: El Pan
B6: Carchi | C6: 04 | D6: =B6 -> Carchi | F6: Zamora Chinchipe | G6: 19 | H6: Chinchipe | I6: =MID(H6,1,9) -> Chinchipe | J6: 1902 | K6: El Chorro | L6: 190252 | O6: Azuay | P6: 01 | Q6: =O6 -> Azuay | R6: Girón
B7: Cotopaxi | C7: 05 | D7: =B7 -> Cotopaxi | F7: Zamora Chinchipe | G7: 19 | H7: Chinchipe | I7: =MID(H7,1,9) -> Chinchipe | J7: 1902 | K7: Zumba | L7: 190250 | O7: Azuay | P7: 01 | Q7: =O7 -> Azuay | R7: Guachapala
B8: Chimborazo | C8: 06 | D8: =B8 -> Chimborazo | F8: Zamora Chinchipe | G8: 19 | H8: Chinchipe | I8: =MID(H8,1,9) -> Chinchipe | J8: 1902 | K8: San Andrés | L8: 190259 | O8: Azuay | P8: 01 | Q8: =O8 -> Azuay | R8: Gualaceo
B9: El Oro | C9: 07 | D9: ElOro | F9: Zamora Chinchipe | G9: 19 | H9: Chinchipe | I9: =MID(H9,1,9) -> Chinchipe | J9: 1902 | K9: Chito | L9: 190251 | O9: Azuay | P9: 01 | Q9: =O9 -> Azuay | R9: Nabón
B10: Esmeraldas | C10: 08 | D10: =B10 -> Esmeraldas | F10: Zamora Chinchipe | G10: 19 | H10: Chinchipe | I10: =MID(H10,1,9) -> Chinchipe | J10: 1902 | K10: La Chonta | L10: 190254 | O10: Azuay | P10: 01 | Q10: =O10 -> Azuay | R10: Oña
B11: Guayas | C11: 09 | D11: =B11 -> Guayas | F11: Zamora Chinchipe | G11: 19 | H11: El Pangui | I11: =MID(H11,4,9) -> Pangui | J11: 1906 | K11: Pachicutza | L11: 190652 | O11: Azuay | P11: 01 | Q11: =O11 -> Azuay | R11: Paute
B12: Imbabura | C12: 10 | D12: =B12 -> Imbabura | F12: Zamora Chinchipe | G12: 19 | H12: El Pangui | I12: =MID(H12,4,9) -> Pangui | J12: 1906 | K12: Tundayme | L12: 190653 | O12: Azuay | P12: 01 | Q12: =O12 -> Azuay | R12: Pucará
B13: Loja | C13: 11 | D13: =B13 -> Loja | F13: Zamora Chinchipe | G13: 19 | H13: El Pangui | I13: =MID(H13,4,9) -> Pangui | J13: 1906 | K13: El Guisme | L13: 190651 | O13: Azuay | P13: 01 | Q13: =O13 -> Azuay | R13: San Fernando
B14: Los Ríos | C14: 12 | D14: LosRíos | F14: Zamora Chinchipe | G14: 19 | H14: El Pangui | I14: =MID(H14,4,9) -> Pangui | J14: 1906 | K14: El Pangui | L14: 190650 | O14: Azuay | P14: 01 | Q14: =O14 -> Azuay | R14: Santa Isabel
B15: Manabí | C15: 13 | D15: =B15 -> Manabí | F15: Zamora Chinchipe | G15: 19 | H15: Nangaritza | I15: =MID(H15,1,10) -> Nangaritza | J15: 1903 | K15: Nuevo Paraiso | L15: 190352 | O15: Azuay | P15: 01 | Q15: =O15 -> Azuay | R15: Sevilla de Oro
B16: Morona Santiago | C16: 14 | D16: MoronaSantiago | F16: Zamora Chinchipe | G16: 19 | H16: Nangaritza | I16: =MID(H16,1,10) -> Nangaritza | J16: 1903 | K16: Zurmi | L16: 190351 | O16: Azuay | P16: 01 | Q16: =O16 -> Azuay | R16: Sigsig
B17: Napo | C17: 15 | D17: =B17 -> Napo | F17: Zamora Chinchipe | G17: 19 | H17: Nangaritza | I17: =MID(H17,1,10) -> Nangaritza | J17: 1903 | K17: Guayzimi | L17: 190350 | O17: Bolívar | P17: 02 | Q17: =O17 -> Bolívar | R17: Caluma
B18: Pastaza | C18: 16 | D18: =B18 -> Pastaza | F18: Zamora Chinchipe | G18: 19 | H18: Palanda | I18: =MID(H18,1,9) -> Palanda | J18: 1908 | K18: El Porvenir Del Carmen | L18: 190851 | O18: Bolívar | P18: 02 | Q18: =O18 -> Bolívar | R18: Chillanes
B19: Pichincha | C19: 17 | D19: =B19 -> Pichincha | F19: Zamora Chinchipe | G19: 19 | H19: Palanda | I19: =MID(H19,1,9) -> Palanda | J19: 1908 | K19: Palanda | L19: 190850 | O19: Bolívar | P19: 02 | Q19: =O19 -> Bolívar | R19: Chimbo
B20: Tungurahua | C20: 18 | D20: Tungurahua | F20: Zamora Chinchipe | G20: 19 | H20: Palanda | I20: =MID(H20,1,9) -> Palanda | J20: 1908 | K20: La Canela | L20: 190854 | O20: Bolívar | P20: 02 | Q20: =O20 -> Bolívar | R20: Echeandía
B21: Zamora Chinchipe | C21: 19 | D21: ZamoraChinchipe | F21: Zamora Chinchipe | G21: 19 | H21: Palanda | I21: =MID(H21,1,9) -> Palanda | J21: 1908 | K21: San Francisco Del Vergel | L21: 190852 | O21: Bolívar | P21: 02 | Q21: =O21 -> Bolívar | R21: Guaranda
B22: Galápagos | C22: 20 | D22: Galápagos | F22: Zamora Chinchipe | G22: 19 | H22: Palanda | I22: =MID(H22,1,9) -> Palanda | J22: 1908 | K22: Valladolid | L22: 190853 | O22: Bolívar | P22: 02 | Q22: =O22 -> Bolívar | R22: Las Naves
B23: Sucumbíos | C23: 21 | D23: Sucumbíos | F23: Zamora Chinchipe | G23: 19 | H23: Paquisha | I23: =MID(H23,1,9) -> Paquisha | J23: 1909 | K23: Nuevo Quito | L23: 190952 | O23: Bolívar | P23: 02 | Q23: =O23 -> Bolívar | R23: San Miguel
B24: Orellana | C24: 22 | D24: =B24 -> Orellana | F24: Zamora Chinchipe | G24: 19 | H24: Paquisha | I24: =MID(H24,1,9) -> Paquisha | J24: 1909 | K24: Bellavista | L24: 190951 | O24: Cañar | P24: 03 | Q24: =O24 -> Cañar | R24: Azogues
B25: Santo Domingo de los Tsáchilas | C25: 23 | D25: STODGO | F25: Zamora Chinchipe | G25: 19 | H25: Paquisha | I25: =MID(H25,1,9) -> Paquisha | J25: 1909 | K25: Paquisha | L25: 190950 | O25: Cañar | P25: 03 | Q25: =O25 -> Cañar | R25: Biblián
B26: Santa Elena | C26: 24 | D26: SantaElena | F26: Zamora Chinchipe | G26: 19 | H26: Yacuambi | I26: =MID(H26,1,9) -> Yacuambi | J26: 1904 | K26: 28 De Mayo (San José De Yacuambi) | L26: 190450 | O26: Cañar | P26: 03 | Q26: =O26 -> Cañar | R26: Cañar
F27: Zamora Chinchipe | G27: 19 | H27: Yacuambi | I27: =MID(H27,1,9) -> Yacuambi | J27: 1904 | K27: La Paz | L27: 190451 | O27: Cañar | P27: 03 | Q27: =O27 -> Cañar | R27: Déleg
F28: Zamora Chinchipe | G28: 19 | H28: Yacuambi | I28: =MID(H28,1,9) -> Yacuambi | J28: 1904 | K28: Tutupali | L28: 190452 | O28: Cañar | P28: 03 | Q28: =O28 -> Cañar | R28: El Tambo
F29: Zamora Chinchipe | G29: 19 | H29: Yantzaza | I29: =MID(H29,1,9) -> Yantzaza | J29: 1905 | K29: Los Encuentros | L29: 190553 | O29: Cañar | P29: 03 | Q29: =O29 -> Cañar | R29: La Troncal
F30: Zamora Chinchipe | G30: 19 | H30: Yantzaza | I30: =MID(H30,1,9) -> Yantzaza | J30: 1905 | K30: Chicana | L30: 190551 | O30: Cañar | P30: 03 | Q30: =O30 -> Cañar | R30: Suscal
F31: Zamora Chinchipe | G31: 19 | H31: Yantzaza | I31: =MID(H31,1,9) -> Yantzaza | J31: 1905 | K31: Yantzaza (Yanzatza) | L31: 190550 | O31: Carchi | P31: 04 | Q31: =O31 -> Carchi | R31: Bolívar
F32: Zamora Chinchipe | G32: 19 | H32: Zamora | I32: =MID(H32,1,9) -> Zamora | J32: 1901 | K32: San Carlos De Las Minas | L32: 190158 | O32: Carchi | P32: 04 | Q32: =O32 -> Carchi | R32: Espejo
F33: Zamora Chinchipe | G33: 19 | H33: Zamora | I33: =MID(H33,1,9) -> Zamora | J33: 1901 | K33: Timbara | L33: 190156 | O33: Carchi | P33: 04 | Q33: =O33 -> Carchi | R33: Mira
F34: Zamora Chinchipe | G34: 19 | H34: Zamora | I34: =MID(H34,1,9) -> Zamora | J34: 1901 | K34: Sabanilla | L34: 190155 | O34: Carchi | P34: 04 | Q34: =O34 -> Carchi | R34: Montúfar
F35: Zamora Chinchipe | G35: 19 | H35: Zamora | I35: =MID(H35,1,9) -> Zamora | J35: 1901 | K35: Imbana (La Victoria De Imbana) | L35: 190153 | O35: Carchi | P35: 04 | Q35: =O35 -> Carchi | R35: San Pedro de Huaca
F36: Zamora Chinchipe | G36: 19 | H36: Zamora | I36: =MID(H36,1,9) -> Zamora | J36: 1901 | K36: Guadalupe | L36: 190152 | O36: Carchi | P36: 04 | Q36: =O36 -> Carchi | R36: Tulcán
F37: Zamora Chinchipe | G37: 19 | H37: Zamora | I37: =MID(H37,1,9) -> Zamora | J37: 1901 | K37: Cumbaratza | L37: 190151 | O37: Cotopaxi | P37: 05 | Q37: =O37 -> Cotopaxi | R37: La Maná
F38: Zamora Chinchipe | G38: 19 | H38: Zamora | I38: =MID(H38,1,9) -> Zamora | J38: 1901 | K38: Zamora | L38: 190150 | O38: Cotopaxi | P38: 05 | Q38: =O38 -> Cotopaxi | R38: Latacunga
O39: Cotopaxi | P39: 05 | Q39: =O39 -> Cotopaxi | R39: Pangua
F40: Tungurahua | G40: 18 | H40: Ambato | I40: =MID(H40,1,9) -> Ambato | J40: 1801 | K40: Juan Benigno Vela | L40: 180157 | O40: Cotopaxi | P40: 05 | Q40: =O40 -> Cotopaxi | R40: Pujilí
...
